BEGIN:VCALENDAR
VERSION:2.0
PRODID:-//Wildish Theater - ECPv6.15.17.1//NONSGML v1.0//EN
CALSCALE:GREGORIAN
METHOD:PUBLISH
X-WR-CALNAME:Wildish Theater
X-ORIGINAL-URL:https://wildishtheater.com
X-WR-CALDESC:Events for Wildish Theater
REFRESH-INTERVAL;VALUE=DURATION:PT1H
X-Robots-Tag:noindex
X-PUBLISHED-TTL:PT1H
BEGIN:VTIMEZONE
TZID:America/Detroit
BEGIN:DAYLIGHT
TZOFFSETFROM:-0500
TZOFFSETTO:-0400
TZNAME:EDT
DTSTART:20230312T070000
END:DAYLIGHT
BEGIN:STANDARD
TZOFFSETFROM:-0400
TZOFFSETTO:-0500
TZNAME:EST
DTSTART:20231105T060000
END:STANDARD
BEGIN:DAYLIGHT
TZOFFSETFROM:-0500
TZOFFSETTO:-0400
TZNAME:EDT
DTSTART:20240310T070000
END:DAYLIGHT
BEGIN:STANDARD
TZOFFSETFROM:-0400
TZOFFSETTO:-0500
TZNAME:EST
DTSTART:20241103T060000
END:STANDARD
BEGIN:DAYLIGHT
TZOFFSETFROM:-0500
TZOFFSETTO:-0400
TZNAME:EDT
DTSTART:20250309T070000
END:DAYLIGHT
BEGIN:STANDARD
TZOFFSETFROM:-0400
TZOFFSETTO:-0500
TZNAME:EST
DTSTART:20251102T060000
END:STANDARD
END:VTIMEZONE
BEGIN:VTIMEZONE
TZID:America/Los_Angeles
BEGIN:DAYLIGHT
TZOFFSETFROM:-0800
TZOFFSETTO:-0700
TZNAME:PDT
DTSTART:20230312T100000
END:DAYLIGHT
BEGIN:STANDARD
TZOFFSETFROM:-0700
TZOFFSETTO:-0800
TZNAME:PST
DTSTART:20231105T090000
END:STANDARD
BEGIN:DAYLIGHT
TZOFFSETFROM:-0800
TZOFFSETTO:-0700
TZNAME:PDT
DTSTART:20240310T100000
END:DAYLIGHT
BEGIN:STANDARD
TZOFFSETFROM:-0700
TZOFFSETTO:-0800
TZNAME:PST
DTSTART:20241103T090000
END:STANDARD
BEGIN:DAYLIGHT
TZOFFSETFROM:-0800
TZOFFSETTO:-0700
TZNAME:PDT
DTSTART:20250309T100000
END:DAYLIGHT
BEGIN:STANDARD
TZOFFSETFROM:-0700
TZOFFSETTO:-0800
TZNAME:PST
DTSTART:20251102T090000
END:STANDARD
END:VTIMEZONE
BEGIN:VEVENT
DTSTART;TZID=America/Detroit:20241025T193000
DTEND;TZID=America/Detroit:20241025T213000
DTSTAMP:20260419T115753
CREATED:20240903T042023Z
LAST-MODIFIED:20240929T002734Z
UID:73-1729884600-1729891800@wildishtheater.com
SUMMARY:Calvin Orlando Smith
DESCRIPTION:🎄 Christmas Presence 2024 🎄\nPresented by Narrow Shoes Productions & Wildish Community Theater \n📅 Show Dates & Times: \n\nThursday\, December 19\, 2024 | 7:30 PM\nFriday\, December 20\, 2024 | 2:00 PM & 7:30 PM\nSaturday\, December 21\, 2024 | 2:00 PM\n\n📍 Location: Wildish Theater\, 630 Main St.\, Springfield\, OR\n🌐 Live Stream Option Available \n✨ All new content for 2024! Tickets are now available for this highly anticipated holiday event. \nChristmas Presence weaves together a rich tapestry of stories and music that captures the wonder\, the disappointments\, and the joy of Christmas. This year’s performance features a vibrant South American flair\, blending jazz and Latin rhythms into the holiday spirit. \n🎶 Musical Lineup: \n\nGuitarist Ricardo Cardenas\nPianist Ciro Magnani\nMulti-instrumentalist Wesley Coleman\nBassist Niels Miller\n\n🎭 Actor-Singers: \n\nMago Gilson\nJeany Van Meltebeke\nDavid Snider\nDonovan Snider\n\nSome stories and songs include Spanish and English translations\, offering a unique and inclusive experience for all audiences. \n✨ Come contemplate Christmas from several different points of the star. Whether in person or via live stream\, don’t miss this unforgettable celebration of the season! \n🎟️ Tickets available now: \n\n	\n\n\n	\n		\n			\n					\n						In Person Performance Tickets\n					\n\n	\n\n\n	\n		\n			\n					\n						Live Stream Performance Tickets\n					\n\n	\n\n\n	\n		\n	\n\n\n	\n		\n	Early bird rates through November 25th (20% off): \nAdults: $20\nStudents: $15 \nAfter November 25th: \nAdults: $25\nStudents: $18.75 \nRecommended for ages 8 and above.
URL:https://wildishtheater.com/event/calvin-orlando-smith/
LOCATION:Wildish Community Theater\, 630 Main Street\, Springfield\, OR\, 97477\, United States
ATTACH;FMTTYPE=image/jpeg:https://wildishtheater.com/wp-content/uploads/2024/09/20240928_141220-scaled.jpg
END:VEVENT
BEGIN:VEVENT
DTSTART;TZID=America/Los_Angeles:20241020T140000
DTEND;TZID=America/Los_Angeles:20241020T160000
DTSTAMP:20260419T115753
CREATED:20241003T225712Z
LAST-MODIFIED:20241003T225712Z
UID:330-1729432800-1729440000@wildishtheater.com
SUMMARY:Round The Globe: Indie Film & Music Festival
DESCRIPTION:🎄 Christmas Presence 2024 🎄\nPresented by Narrow Shoes Productions & Wildish Community Theater \n📅 Show Dates & Times: \n\nThursday\, December 19\, 2024 | 7:30 PM\nFriday\, December 20\, 2024 | 2:00 PM & 7:30 PM\nSaturday\, December 21\, 2024 | 2:00 PM\n\n📍 Location: Wildish Theater\, 630 Main St.\, Springfield\, OR\n🌐 Live Stream Option Available \n✨ All new content for 2024! Tickets are now available for this highly anticipated holiday event. \nChristmas Presence weaves together a rich tapestry of stories and music that captures the wonder\, the disappointments\, and the joy of Christmas. This year’s performance features a vibrant South American flair\, blending jazz and Latin rhythms into the holiday spirit. \n🎶 Musical Lineup: \n\nGuitarist Ricardo Cardenas\nPianist Ciro Magnani\nMulti-instrumentalist Wesley Coleman\nBassist Niels Miller\n\n🎭 Actor-Singers: \n\nMago Gilson\nJeany Van Meltebeke\nDavid Snider\nDonovan Snider\n\nSome stories and songs include Spanish and English translations\, offering a unique and inclusive experience for all audiences. \n✨ Come contemplate Christmas from several different points of the star. Whether in person or via live stream\, don’t miss this unforgettable celebration of the season! \n🎟️ Tickets available now: \n\n	\n\n\n	\n		\n			\n					\n						In Person Performance Tickets\n					\n\n	\n\n\n	\n		\n			\n					\n						Live Stream Performance Tickets\n					\n\n	\n\n\n	\n		\n	\n\n\n	\n		\n	Early bird rates through November 25th (20% off): \nAdults: $20\nStudents: $15 \nAfter November 25th: \nAdults: $25\nStudents: $18.75 \nRecommended for ages 8 and above.
URL:https://wildishtheater.com/event/round-the-globe-indie-film-music-festival/
LOCATION:Wildish Community Theater\, 630 Main Street\, Springfield\, OR\, 97477\, United States
ATTACH;FMTTYPE=image/png:https://wildishtheater.com/wp-content/uploads/2024/10/RTG-Fall-Fest-Wildish-2024.png
ORGANIZER;CN="Round The Globe":MAILTO:roundtheglobe.hearnow.com
END:VEVENT
BEGIN:VEVENT
DTSTART;TZID=America/Detroit:20241019T193000
DTEND;TZID=America/Detroit:20241019T213000
DTSTAMP:20260419T115753
CREATED:20240913T222440Z
LAST-MODIFIED:20240913T222546Z
UID:215-1729366200-1729373400@wildishtheater.com
SUMMARY:Musicals Through The Decades
DESCRIPTION:🎄 Christmas Presence 2024 🎄\nPresented by Narrow Shoes Productions & Wildish Community Theater \n📅 Show Dates & Times: \n\nThursday\, December 19\, 2024 | 7:30 PM\nFriday\, December 20\, 2024 | 2:00 PM & 7:30 PM\nSaturday\, December 21\, 2024 | 2:00 PM\n\n📍 Location: Wildish Theater\, 630 Main St.\, Springfield\, OR\n🌐 Live Stream Option Available \n✨ All new content for 2024! Tickets are now available for this highly anticipated holiday event. \nChristmas Presence weaves together a rich tapestry of stories and music that captures the wonder\, the disappointments\, and the joy of Christmas. This year’s performance features a vibrant South American flair\, blending jazz and Latin rhythms into the holiday spirit. \n🎶 Musical Lineup: \n\nGuitarist Ricardo Cardenas\nPianist Ciro Magnani\nMulti-instrumentalist Wesley Coleman\nBassist Niels Miller\n\n🎭 Actor-Singers: \n\nMago Gilson\nJeany Van Meltebeke\nDavid Snider\nDonovan Snider\n\nSome stories and songs include Spanish and English translations\, offering a unique and inclusive experience for all audiences. \n✨ Come contemplate Christmas from several different points of the star. Whether in person or via live stream\, don’t miss this unforgettable celebration of the season! \n🎟️ Tickets available now: \n\n	\n\n\n	\n		\n			\n					\n						In Person Performance Tickets\n					\n\n	\n\n\n	\n		\n			\n					\n						Live Stream Performance Tickets\n					\n\n	\n\n\n	\n		\n	\n\n\n	\n		\n	Early bird rates through November 25th (20% off): \nAdults: $20\nStudents: $15 \nAfter November 25th: \nAdults: $25\nStudents: $18.75 \nRecommended for ages 8 and above.
URL:https://wildishtheater.com/event/musicals-through-the-decades/
LOCATION:Wildish Community Theater\, 630 Main Street\, Springfield\, OR\, 97477\, United States
ATTACH;FMTTYPE=image/png:https://wildishtheater.com/wp-content/uploads/2024/09/musicals.png
END:VEVENT
BEGIN:VEVENT
DTSTART;TZID=America/Los_Angeles:20241016T183000
DTEND;TZID=America/Los_Angeles:20241016T213000
DTSTAMP:20260419T115753
CREATED:20240929T234107Z
LAST-MODIFIED:20240929T234107Z
UID:322-1729103400-1729114200@wildishtheater.com
SUMMARY:Springfilm Movie: Women On The Verge Of A Nervous Breakdown
DESCRIPTION:🎄 Christmas Presence 2024 🎄\nPresented by Narrow Shoes Productions & Wildish Community Theater \n📅 Show Dates & Times: \n\nThursday\, December 19\, 2024 | 7:30 PM\nFriday\, December 20\, 2024 | 2:00 PM & 7:30 PM\nSaturday\, December 21\, 2024 | 2:00 PM\n\n📍 Location: Wildish Theater\, 630 Main St.\, Springfield\, OR\n🌐 Live Stream Option Available \n✨ All new content for 2024! Tickets are now available for this highly anticipated holiday event. \nChristmas Presence weaves together a rich tapestry of stories and music that captures the wonder\, the disappointments\, and the joy of Christmas. This year’s performance features a vibrant South American flair\, blending jazz and Latin rhythms into the holiday spirit. \n🎶 Musical Lineup: \n\nGuitarist Ricardo Cardenas\nPianist Ciro Magnani\nMulti-instrumentalist Wesley Coleman\nBassist Niels Miller\n\n🎭 Actor-Singers: \n\nMago Gilson\nJeany Van Meltebeke\nDavid Snider\nDonovan Snider\n\nSome stories and songs include Spanish and English translations\, offering a unique and inclusive experience for all audiences. \n✨ Come contemplate Christmas from several different points of the star. Whether in person or via live stream\, don’t miss this unforgettable celebration of the season! \n🎟️ Tickets available now: \n\n	\n\n\n	\n		\n			\n					\n						In Person Performance Tickets\n					\n\n	\n\n\n	\n		\n			\n					\n						Live Stream Performance Tickets\n					\n\n	\n\n\n	\n		\n	\n\n\n	\n		\n	Early bird rates through November 25th (20% off): \nAdults: $20\nStudents: $15 \nAfter November 25th: \nAdults: $25\nStudents: $18.75 \nRecommended for ages 8 and above.
URL:https://wildishtheater.com/event/springfilm-movie-women-on-the-verge-of-a-nervous-breakdown/
LOCATION:OR
ATTACH;FMTTYPE=image/jpeg:https://wildishtheater.com/wp-content/uploads/2024/09/SPRINGfilm-24-25-Insta-1.jpg
END:VEVENT
BEGIN:VEVENT
DTSTART;TZID=America/Detroit:20241004T180000
DTEND;TZID=America/Detroit:20241004T200000
DTSTAMP:20260419T115753
CREATED:20240917T234105Z
LAST-MODIFIED:20240927T020246Z
UID:240-1728064800-1728072000@wildishtheater.com
SUMMARY:Free Concerts with the Band of the Golden West Clarinet Quartet
DESCRIPTION:🎄 Christmas Presence 2024 🎄\nPresented by Narrow Shoes Productions & Wildish Community Theater \n📅 Show Dates & Times: \n\nThursday\, December 19\, 2024 | 7:30 PM\nFriday\, December 20\, 2024 | 2:00 PM & 7:30 PM\nSaturday\, December 21\, 2024 | 2:00 PM\n\n📍 Location: Wildish Theater\, 630 Main St.\, Springfield\, OR\n🌐 Live Stream Option Available \n✨ All new content for 2024! Tickets are now available for this highly anticipated holiday event. \nChristmas Presence weaves together a rich tapestry of stories and music that captures the wonder\, the disappointments\, and the joy of Christmas. This year’s performance features a vibrant South American flair\, blending jazz and Latin rhythms into the holiday spirit. \n🎶 Musical Lineup: \n\nGuitarist Ricardo Cardenas\nPianist Ciro Magnani\nMulti-instrumentalist Wesley Coleman\nBassist Niels Miller\n\n🎭 Actor-Singers: \n\nMago Gilson\nJeany Van Meltebeke\nDavid Snider\nDonovan Snider\n\nSome stories and songs include Spanish and English translations\, offering a unique and inclusive experience for all audiences. \n✨ Come contemplate Christmas from several different points of the star. Whether in person or via live stream\, don’t miss this unforgettable celebration of the season! \n🎟️ Tickets available now: \n\n	\n\n\n	\n		\n			\n					\n						In Person Performance Tickets\n					\n\n	\n\n\n	\n		\n			\n					\n						Live Stream Performance Tickets\n					\n\n	\n\n\n	\n		\n	\n\n\n	\n		\n	Early bird rates through November 25th (20% off): \nAdults: $20\nStudents: $15 \nAfter November 25th: \nAdults: $25\nStudents: $18.75 \nRecommended for ages 8 and above.
URL:https://wildishtheater.com/event/free-concerts-with-the-band-of-the-golden-west-clarinet-quaretet/
LOCATION:Wildish Community Theater\, 630 Main Street\, Springfield\, OR\, 97477\, United States
ATTACH;FMTTYPE=image/jpeg:https://wildishtheater.com/wp-content/uploads/2024/09/clarenet.jpg
END:VEVENT
BEGIN:VEVENT
DTSTART;TZID=America/Los_Angeles:20241001T193000
DTEND;TZID=America/Los_Angeles:20241001T210000
DTSTAMP:20260419T115753
CREATED:20240920T053752Z
LAST-MODIFIED:20240920T054925Z
UID:278-1727811000-1727816400@wildishtheater.com
SUMMARY:A World Of Music
DESCRIPTION:🎄 Christmas Presence 2024 🎄\nPresented by Narrow Shoes Productions & Wildish Community Theater \n📅 Show Dates & Times: \n\nThursday\, December 19\, 2024 | 7:30 PM\nFriday\, December 20\, 2024 | 2:00 PM & 7:30 PM\nSaturday\, December 21\, 2024 | 2:00 PM\n\n📍 Location: Wildish Theater\, 630 Main St.\, Springfield\, OR\n🌐 Live Stream Option Available \n✨ All new content for 2024! Tickets are now available for this highly anticipated holiday event. \nChristmas Presence weaves together a rich tapestry of stories and music that captures the wonder\, the disappointments\, and the joy of Christmas. This year’s performance features a vibrant South American flair\, blending jazz and Latin rhythms into the holiday spirit. \n🎶 Musical Lineup: \n\nGuitarist Ricardo Cardenas\nPianist Ciro Magnani\nMulti-instrumentalist Wesley Coleman\nBassist Niels Miller\n\n🎭 Actor-Singers: \n\nMago Gilson\nJeany Van Meltebeke\nDavid Snider\nDonovan Snider\n\nSome stories and songs include Spanish and English translations\, offering a unique and inclusive experience for all audiences. \n✨ Come contemplate Christmas from several different points of the star. Whether in person or via live stream\, don’t miss this unforgettable celebration of the season! \n🎟️ Tickets available now: \n\n	\n\n\n	\n		\n			\n					\n						In Person Performance Tickets\n					\n\n	\n\n\n	\n		\n			\n					\n						Live Stream Performance Tickets\n					\n\n	\n\n\n	\n		\n	\n\n\n	\n		\n	Early bird rates through November 25th (20% off): \nAdults: $20\nStudents: $15 \nAfter November 25th: \nAdults: $25\nStudents: $18.75 \nRecommended for ages 8 and above.
URL:https://wildishtheater.com/event/a-world-of-music-2/
LOCATION:Wildish Community Theater\, 630 Main Street\, Springfield\, OR\, 97477\, United States
ATTACH;FMTTYPE=image/jpeg:https://wildishtheater.com/wp-content/uploads/2024/09/D1-DANCERS-16X9-EUGENE-v3-scaled.jpg
ORGANIZER;CN="Delgani String Quartet":MAILTO:delgani@delgani.org
END:VEVENT
BEGIN:VEVENT
DTSTART;TZID=America/Los_Angeles:20240929T150000
DTEND;TZID=America/Los_Angeles:20240929T170000
DTSTAMP:20260419T115753
CREATED:20240920T022133Z
LAST-MODIFIED:20240920T054958Z
UID:260-1727622000-1727629200@wildishtheater.com
SUMMARY:A World Of Music
DESCRIPTION:🎄 Christmas Presence 2024 🎄\nPresented by Narrow Shoes Productions & Wildish Community Theater \n📅 Show Dates & Times: \n\nThursday\, December 19\, 2024 | 7:30 PM\nFriday\, December 20\, 2024 | 2:00 PM & 7:30 PM\nSaturday\, December 21\, 2024 | 2:00 PM\n\n📍 Location: Wildish Theater\, 630 Main St.\, Springfield\, OR\n🌐 Live Stream Option Available \n✨ All new content for 2024! Tickets are now available for this highly anticipated holiday event. \nChristmas Presence weaves together a rich tapestry of stories and music that captures the wonder\, the disappointments\, and the joy of Christmas. This year’s performance features a vibrant South American flair\, blending jazz and Latin rhythms into the holiday spirit. \n🎶 Musical Lineup: \n\nGuitarist Ricardo Cardenas\nPianist Ciro Magnani\nMulti-instrumentalist Wesley Coleman\nBassist Niels Miller\n\n🎭 Actor-Singers: \n\nMago Gilson\nJeany Van Meltebeke\nDavid Snider\nDonovan Snider\n\nSome stories and songs include Spanish and English translations\, offering a unique and inclusive experience for all audiences. \n✨ Come contemplate Christmas from several different points of the star. Whether in person or via live stream\, don’t miss this unforgettable celebration of the season! \n🎟️ Tickets available now: \n\n	\n\n\n	\n		\n			\n					\n						In Person Performance Tickets\n					\n\n	\n\n\n	\n		\n			\n					\n						Live Stream Performance Tickets\n					\n\n	\n\n\n	\n		\n	\n\n\n	\n		\n	Early bird rates through November 25th (20% off): \nAdults: $20\nStudents: $15 \nAfter November 25th: \nAdults: $25\nStudents: $18.75 \nRecommended for ages 8 and above.
URL:https://wildishtheater.com/event/a-world-of-music/
LOCATION:Wildish Community Theater\, 630 Main Street\, Springfield\, OR\, 97477\, United States
ATTACH;FMTTYPE=image/jpeg:https://wildishtheater.com/wp-content/uploads/2024/09/D1-DANCERS-16X9-EUGENE-v3-scaled.jpg
ORGANIZER;CN="Delgani String Quartet":MAILTO:delgani@delgani.org
END:VEVENT
BEGIN:VEVENT
DTSTART;TZID=America/Detroit:20240921T183000
DTEND;TZID=America/Detroit:20240921T203000
DTSTAMP:20260419T115753
CREATED:20240917T231120Z
LAST-MODIFIED:20240918T201416Z
UID:231-1726943400-1726950600@wildishtheater.com
SUMMARY:Noches En Comunidad
DESCRIPTION:🎄 Christmas Presence 2024 🎄\nPresented by Narrow Shoes Productions & Wildish Community Theater \n📅 Show Dates & Times: \n\nThursday\, December 19\, 2024 | 7:30 PM\nFriday\, December 20\, 2024 | 2:00 PM & 7:30 PM\nSaturday\, December 21\, 2024 | 2:00 PM\n\n📍 Location: Wildish Theater\, 630 Main St.\, Springfield\, OR\n🌐 Live Stream Option Available \n✨ All new content for 2024! Tickets are now available for this highly anticipated holiday event. \nChristmas Presence weaves together a rich tapestry of stories and music that captures the wonder\, the disappointments\, and the joy of Christmas. This year’s performance features a vibrant South American flair\, blending jazz and Latin rhythms into the holiday spirit. \n🎶 Musical Lineup: \n\nGuitarist Ricardo Cardenas\nPianist Ciro Magnani\nMulti-instrumentalist Wesley Coleman\nBassist Niels Miller\n\n🎭 Actor-Singers: \n\nMago Gilson\nJeany Van Meltebeke\nDavid Snider\nDonovan Snider\n\nSome stories and songs include Spanish and English translations\, offering a unique and inclusive experience for all audiences. \n✨ Come contemplate Christmas from several different points of the star. Whether in person or via live stream\, don’t miss this unforgettable celebration of the season! \n🎟️ Tickets available now: \n\n	\n\n\n	\n		\n			\n					\n						In Person Performance Tickets\n					\n\n	\n\n\n	\n		\n			\n					\n						Live Stream Performance Tickets\n					\n\n	\n\n\n	\n		\n	\n\n\n	\n		\n	Early bird rates through November 25th (20% off): \nAdults: $20\nStudents: $15 \nAfter November 25th: \nAdults: $25\nStudents: $18.75 \nRecommended for ages 8 and above.
URL:https://wildishtheater.com/event/noches-en-comunidad/
LOCATION:Wildish Community Theater\, 630 Main Street\, Springfield\, OR\, 97477\, United States
ATTACH;FMTTYPE=image/jpeg:https://wildishtheater.com/wp-content/uploads/2024/09/wolf.jpg
END:VEVENT
BEGIN:VEVENT
DTSTART;TZID=America/Detroit:20240906T170000
DTEND;TZID=America/Detroit:20240906T220000
DTSTAMP:20260419T115753
CREATED:20240902T011932Z
LAST-MODIFIED:20240903T083621Z
UID:39-1725642000-1725660000@wildishtheater.com
SUMMARY:Springfield’s The Block Party
DESCRIPTION:🎄 Christmas Presence 2024 🎄\nPresented by Narrow Shoes Productions & Wildish Community Theater \n📅 Show Dates & Times: \n\nThursday\, December 19\, 2024 | 7:30 PM\nFriday\, December 20\, 2024 | 2:00 PM & 7:30 PM\nSaturday\, December 21\, 2024 | 2:00 PM\n\n📍 Location: Wildish Theater\, 630 Main St.\, Springfield\, OR\n🌐 Live Stream Option Available \n✨ All new content for 2024! Tickets are now available for this highly anticipated holiday event. \nChristmas Presence weaves together a rich tapestry of stories and music that captures the wonder\, the disappointments\, and the joy of Christmas. This year’s performance features a vibrant South American flair\, blending jazz and Latin rhythms into the holiday spirit. \n🎶 Musical Lineup: \n\nGuitarist Ricardo Cardenas\nPianist Ciro Magnani\nMulti-instrumentalist Wesley Coleman\nBassist Niels Miller\n\n🎭 Actor-Singers: \n\nMago Gilson\nJeany Van Meltebeke\nDavid Snider\nDonovan Snider\n\nSome stories and songs include Spanish and English translations\, offering a unique and inclusive experience for all audiences. \n✨ Come contemplate Christmas from several different points of the star. Whether in person or via live stream\, don’t miss this unforgettable celebration of the season! \n🎟️ Tickets available now: \n\n	\n\n\n	\n		\n			\n					\n						In Person Performance Tickets\n					\n\n	\n\n\n	\n		\n			\n					\n						Live Stream Performance Tickets\n					\n\n	\n\n\n	\n		\n	\n\n\n	\n		\n	Early bird rates through November 25th (20% off): \nAdults: $20\nStudents: $15 \nAfter November 25th: \nAdults: $25\nStudents: $18.75 \nRecommended for ages 8 and above.
URL:https://wildishtheater.com/event/springfields-the-block-party/
LOCATION:Wildish Community Theater\, 630 Main Street\, Springfield\, OR\, 97477\, United States
ATTACH;FMTTYPE=image/jpeg:https://wildishtheater.com/wp-content/uploads/2024/09/sbps-1.jpg
END:VEVENT
END:VCALENDAR