BEGIN:VCALENDAR
VERSION:2.0
PRODID:-//Wildish Theater - ECPv6.15.17.1//NONSGML v1.0//EN
CALSCALE:GREGORIAN
METHOD:PUBLISH
X-WR-CALNAME:Wildish Theater
X-ORIGINAL-URL:https://wildishtheater.com
X-WR-CALDESC:Events for Wildish Theater
REFRESH-INTERVAL;VALUE=DURATION:PT1H
X-Robots-Tag:noindex
X-PUBLISHED-TTL:PT1H
BEGIN:VTIMEZONE
TZID:America/Los_Angeles
BEGIN:DAYLIGHT
TZOFFSETFROM:-0800
TZOFFSETTO:-0700
TZNAME:PDT
DTSTART:20250309T100000
END:DAYLIGHT
BEGIN:STANDARD
TZOFFSETFROM:-0700
TZOFFSETTO:-0800
TZNAME:PST
DTSTART:20251102T090000
END:STANDARD
BEGIN:DAYLIGHT
TZOFFSETFROM:-0800
TZOFFSETTO:-0700
TZNAME:PDT
DTSTART:20260308T100000
END:DAYLIGHT
BEGIN:STANDARD
TZOFFSETFROM:-0700
TZOFFSETTO:-0800
TZNAME:PST
DTSTART:20261101T090000
END:STANDARD
BEGIN:DAYLIGHT
TZOFFSETFROM:-0800
TZOFFSETTO:-0700
TZNAME:PDT
DTSTART:20270314T100000
END:DAYLIGHT
BEGIN:STANDARD
TZOFFSETFROM:-0700
TZOFFSETTO:-0800
TZNAME:PST
DTSTART:20271107T090000
END:STANDARD
END:VTIMEZONE
BEGIN:VEVENT
DTSTART;TZID=America/Los_Angeles:20260531T150000
DTEND;TZID=America/Los_Angeles:20260531T170000
DTSTAMP:20260419T082206
CREATED:20260408T214921Z
LAST-MODIFIED:20260408T214921Z
UID:1530-1780239600-1780246800@wildishtheater.com
SUMMARY:Swing Shift Jazz Orchestra: Locals Only Concert
DESCRIPTION:A Queen’s Affair: Miss Oregon Volunteer 2025 Pageant \n Date: Saturday\, January 11\, 2025\n Time: Doors open at 6:00 PM | Pageant begins at 6:30 PM\n Location: Richard E. Wildish Theater\, 630 Main St.\, Springfield \n Tickets: \n\nPremium Seating: $45.00\nGeneral Seating: $35.00\n\n Queens’ Reception\n Graduate Hotel\n 10:00 PM – 12:00 AM (Tickets sold separately) \nEvent Description:\nStep into an evening of grace and grandeur at the Miss Oregon Volunteer 2025 Pageant. This esteemed event celebrates the dedication and achievements of young women committed to service and leadership. \nThe Miss Oregon Volunteer organization is a statewide\, service-oriented program dedicated to empowering young women through education and opportunity. As part of its mission\, the organization is committed to: \n\nScholarships: Ensuring scholarships are earned and received\nEducation: Encouraging education to be pursued\nResponsibility: Teaching responsibility to be learned and implemented\nVolunteerism: Embracing and fulfilling the spirit of volunteerism\nEmpowerment: Supporting young women to grow\, lead\, and make a positive impact\n\nThrough these guiding principles\, the program empowers young women to achieve their dreams and make meaningful contributions to their communities. \nJoin us for an unforgettable evening as we crown the next ambassador of service and elegance. Witness the poise\, talent\, and commitment of Oregon's finest as they vie for the title of Miss Oregon Volunteer 2025. \nFollowing the pageant\, continue the celebration at the Queens’ Reception at the Graduate Hotel\, where you can mingle with contestants and guests in an atmosphere of festivity and camaraderie. Tickets can be purchased online at www.missoregonvolunteer.com/shop. Early\nbird pricing (valid until January 11\, 2025 at 8pm): Adults and Children Over 10: $15\, Children\nUnder 10: Free. Additional tickets available at the door for $20.00.\nDon’t miss this incredible celebration of service\, leadership\, and ambition! \n\n	\n\n\n	\n		\n			\n					\n						Purchase Tickets\n					\n\n	\n\n\n	\n		\n			\n					\n						Live Stream Tickets Here!
URL:https://wildishtheater.com/event/swing-shift-jazz-orchestra-locals-only-concert/
LOCATION:Wildish Community Theater\, 630 Main Street\, Springfield\, OR\, 97477\, United States
ATTACH;FMTTYPE=image/jpeg:https://wildishtheater.com/wp-content/uploads/2026/04/ssjo-locals-only-copy.jpg
ORGANIZER;CN="Swing Shift Jazz Orchestra":MAILTO:swingshiftoregon@gmail.com
END:VEVENT
BEGIN:VEVENT
DTSTART;TZID=America/Los_Angeles:20260606T193000
DTEND;TZID=America/Los_Angeles:20260606T210000
DTSTAMP:20260419T082206
CREATED:20260411T200940Z
LAST-MODIFIED:20260411T202917Z
UID:1559-1780774200-1780779600@wildishtheater.com
SUMMARY:Calvin Orlando Smith  “The Men of Rhythm and Blues”
DESCRIPTION:A Queen’s Affair: Miss Oregon Volunteer 2025 Pageant \n Date: Saturday\, January 11\, 2025\n Time: Doors open at 6:00 PM | Pageant begins at 6:30 PM\n Location: Richard E. Wildish Theater\, 630 Main St.\, Springfield \n Tickets: \n\nPremium Seating: $45.00\nGeneral Seating: $35.00\n\n Queens’ Reception\n Graduate Hotel\n 10:00 PM – 12:00 AM (Tickets sold separately) \nEvent Description:\nStep into an evening of grace and grandeur at the Miss Oregon Volunteer 2025 Pageant. This esteemed event celebrates the dedication and achievements of young women committed to service and leadership. \nThe Miss Oregon Volunteer organization is a statewide\, service-oriented program dedicated to empowering young women through education and opportunity. As part of its mission\, the organization is committed to: \n\nScholarships: Ensuring scholarships are earned and received\nEducation: Encouraging education to be pursued\nResponsibility: Teaching responsibility to be learned and implemented\nVolunteerism: Embracing and fulfilling the spirit of volunteerism\nEmpowerment: Supporting young women to grow\, lead\, and make a positive impact\n\nThrough these guiding principles\, the program empowers young women to achieve their dreams and make meaningful contributions to their communities. \nJoin us for an unforgettable evening as we crown the next ambassador of service and elegance. Witness the poise\, talent\, and commitment of Oregon's finest as they vie for the title of Miss Oregon Volunteer 2025. \nFollowing the pageant\, continue the celebration at the Queens’ Reception at the Graduate Hotel\, where you can mingle with contestants and guests in an atmosphere of festivity and camaraderie. Tickets can be purchased online at www.missoregonvolunteer.com/shop. Early\nbird pricing (valid until January 11\, 2025 at 8pm): Adults and Children Over 10: $15\, Children\nUnder 10: Free. Additional tickets available at the door for $20.00.\nDon’t miss this incredible celebration of service\, leadership\, and ambition! \n\n	\n\n\n	\n		\n			\n					\n						Purchase Tickets\n					\n\n	\n\n\n	\n		\n			\n					\n						Live Stream Tickets Here!
URL:https://wildishtheater.com/event/calvin-orlando-smith-the-gentlemen-of-rhythm-and-blues/
LOCATION:Wildish Community Theater\, 630 Main Street\, Springfield\, OR\, 97477\, United States
CATEGORIES:Live Music
ATTACH;FMTTYPE=image/jpeg:https://wildishtheater.com/wp-content/uploads/2026/04/1775934286581-d53be9fd-8c1c-4ecb-9589-24b3453be232_2.jpg
END:VEVENT
END:VCALENDAR