BEGIN:VCALENDAR
VERSION:2.0
PRODID:-//Wildish Theater - ECPv6.15.17.1//NONSGML v1.0//EN
CALSCALE:GREGORIAN
METHOD:PUBLISH
X-WR-CALNAME:Wildish Theater
X-ORIGINAL-URL:https://wildishtheater.com
X-WR-CALDESC:Events for Wildish Theater
REFRESH-INTERVAL;VALUE=DURATION:PT1H
X-Robots-Tag:noindex
X-PUBLISHED-TTL:PT1H
BEGIN:VTIMEZONE
TZID:America/Los_Angeles
BEGIN:DAYLIGHT
TZOFFSETFROM:-0800
TZOFFSETTO:-0700
TZNAME:PDT
DTSTART:20230312T100000
END:DAYLIGHT
BEGIN:STANDARD
TZOFFSETFROM:-0700
TZOFFSETTO:-0800
TZNAME:PST
DTSTART:20231105T090000
END:STANDARD
BEGIN:DAYLIGHT
TZOFFSETFROM:-0800
TZOFFSETTO:-0700
TZNAME:PDT
DTSTART:20240310T100000
END:DAYLIGHT
BEGIN:STANDARD
TZOFFSETFROM:-0700
TZOFFSETTO:-0800
TZNAME:PST
DTSTART:20241103T090000
END:STANDARD
BEGIN:DAYLIGHT
TZOFFSETFROM:-0800
TZOFFSETTO:-0700
TZNAME:PDT
DTSTART:20250309T100000
END:DAYLIGHT
BEGIN:STANDARD
TZOFFSETFROM:-0700
TZOFFSETTO:-0800
TZNAME:PST
DTSTART:20251102T090000
END:STANDARD
END:VTIMEZONE
BEGIN:VTIMEZONE
TZID:America/Detroit
BEGIN:DAYLIGHT
TZOFFSETFROM:-0500
TZOFFSETTO:-0400
TZNAME:EDT
DTSTART:20230312T070000
END:DAYLIGHT
BEGIN:STANDARD
TZOFFSETFROM:-0400
TZOFFSETTO:-0500
TZNAME:EST
DTSTART:20231105T060000
END:STANDARD
BEGIN:DAYLIGHT
TZOFFSETFROM:-0500
TZOFFSETTO:-0400
TZNAME:EDT
DTSTART:20240310T070000
END:DAYLIGHT
BEGIN:STANDARD
TZOFFSETFROM:-0400
TZOFFSETTO:-0500
TZNAME:EST
DTSTART:20241103T060000
END:STANDARD
BEGIN:DAYLIGHT
TZOFFSETFROM:-0500
TZOFFSETTO:-0400
TZNAME:EDT
DTSTART:20250309T070000
END:DAYLIGHT
BEGIN:STANDARD
TZOFFSETFROM:-0400
TZOFFSETTO:-0500
TZNAME:EST
DTSTART:20251102T060000
END:STANDARD
END:VTIMEZONE
BEGIN:VEVENT
DTSTART;TZID=America/Los_Angeles:20240929T150000
DTEND;TZID=America/Los_Angeles:20240929T170000
DTSTAMP:20260419T115607
CREATED:20240920T022133Z
LAST-MODIFIED:20240920T054958Z
UID:260-1727622000-1727629200@wildishtheater.com
SUMMARY:A World Of Music
DESCRIPTION:Rose Children’s Theatre presents Madagascar Jr. at The Richard E. Wildish Community Theater\, 630 Main St. Springfield\, OR. Adults $15 | Student/Senior $10 \nJoin Alex the Lion\, Marty the Zebra\, Melman the Giraffe\, Gloria the hip hip Hippo and\, of course\, those hilarious\, plotting penguins as they bound onto your stage in the 60 minute musical adventure of a lifetime. Based on the smash DreamWorks animated motion picture\, Madagascar – A Musical Adventure JR. follows all of your favorite crack-a-lackin` friends as they escape from their home in New York`s Central Park Zoo and find themselves on an unexpected journey to the madcap world of King Julien`s Madagascar. \nAlex the lion is the king of the urban jungle\, the main attraction at New York`s Central Park Zoo. He and his best friends – Marty the zebra\, Melman the giraffe and Gloria the hippo – have spent their whole lives in blissful captivity before an admiring public and with regular meals provided for them. Not content to leave well enough alone\, Marty lets his curiosity get the better of him and makes his escape – with the aide of some prodigious penguins – to explore the world. \nThis fantastic show is brought to you in collaboration by the following artistic team: Directed by Jeany Snider and musicly directed by Katie Coleman. Choreograhpy by Adam Kelly and costumes by Sarah Schumacher and Lynne Macdonald. Sound technician by Jack Pendell. \nJoin us as we join friends to explore the world and “Move It\, Move It!” \nFeaturing original music and lyrics by George Noriega and Joel Someillan and a book by Kevin Del Aguila and presented through special arrangement with Music Theatre International (MTI). All authorized performance materials are also supplied by MTI\, 421 West 54th Street\, New York\, NY 10019 Phone: 212-541-4684 Fax: 212-397-4684 | www.MTIshows.com \nShowtimes:\nNovember 1\, 8 & 9 - 7:00 p.m.\nNovember 2\, 3\, 9 & 10 – 2:00 p.m. \n\n\n\n\n\n\n\n	\n\n\n	\n		\n			\n							Purchase Tickets
URL:https://wildishtheater.com/event/a-world-of-music/
LOCATION:Wildish Community Theater\, 630 Main Street\, Springfield\, OR\, 97477\, United States
ATTACH;FMTTYPE=image/jpeg:https://wildishtheater.com/wp-content/uploads/2024/09/D1-DANCERS-16X9-EUGENE-v3-scaled.jpg
ORGANIZER;CN="Delgani String Quartet":MAILTO:delgani@delgani.org
END:VEVENT
BEGIN:VEVENT
DTSTART;TZID=America/Detroit:20240921T183000
DTEND;TZID=America/Detroit:20240921T203000
DTSTAMP:20260419T115607
CREATED:20240917T231120Z
LAST-MODIFIED:20240918T201416Z
UID:231-1726943400-1726950600@wildishtheater.com
SUMMARY:Noches En Comunidad
DESCRIPTION:Rose Children’s Theatre presents Madagascar Jr. at The Richard E. Wildish Community Theater\, 630 Main St. Springfield\, OR. Adults $15 | Student/Senior $10 \nJoin Alex the Lion\, Marty the Zebra\, Melman the Giraffe\, Gloria the hip hip Hippo and\, of course\, those hilarious\, plotting penguins as they bound onto your stage in the 60 minute musical adventure of a lifetime. Based on the smash DreamWorks animated motion picture\, Madagascar – A Musical Adventure JR. follows all of your favorite crack-a-lackin` friends as they escape from their home in New York`s Central Park Zoo and find themselves on an unexpected journey to the madcap world of King Julien`s Madagascar. \nAlex the lion is the king of the urban jungle\, the main attraction at New York`s Central Park Zoo. He and his best friends – Marty the zebra\, Melman the giraffe and Gloria the hippo – have spent their whole lives in blissful captivity before an admiring public and with regular meals provided for them. Not content to leave well enough alone\, Marty lets his curiosity get the better of him and makes his escape – with the aide of some prodigious penguins – to explore the world. \nThis fantastic show is brought to you in collaboration by the following artistic team: Directed by Jeany Snider and musicly directed by Katie Coleman. Choreograhpy by Adam Kelly and costumes by Sarah Schumacher and Lynne Macdonald. Sound technician by Jack Pendell. \nJoin us as we join friends to explore the world and “Move It\, Move It!” \nFeaturing original music and lyrics by George Noriega and Joel Someillan and a book by Kevin Del Aguila and presented through special arrangement with Music Theatre International (MTI). All authorized performance materials are also supplied by MTI\, 421 West 54th Street\, New York\, NY 10019 Phone: 212-541-4684 Fax: 212-397-4684 | www.MTIshows.com \nShowtimes:\nNovember 1\, 8 & 9 - 7:00 p.m.\nNovember 2\, 3\, 9 & 10 – 2:00 p.m. \n\n\n\n\n\n\n\n	\n\n\n	\n		\n			\n							Purchase Tickets
URL:https://wildishtheater.com/event/noches-en-comunidad/
LOCATION:Wildish Community Theater\, 630 Main Street\, Springfield\, OR\, 97477\, United States
ATTACH;FMTTYPE=image/jpeg:https://wildishtheater.com/wp-content/uploads/2024/09/wolf.jpg
END:VEVENT
BEGIN:VEVENT
DTSTART;TZID=America/Detroit:20240906T170000
DTEND;TZID=America/Detroit:20240906T220000
DTSTAMP:20260419T115607
CREATED:20240902T011932Z
LAST-MODIFIED:20240903T083621Z
UID:39-1725642000-1725660000@wildishtheater.com
SUMMARY:Springfield’s The Block Party
DESCRIPTION:Rose Children’s Theatre presents Madagascar Jr. at The Richard E. Wildish Community Theater\, 630 Main St. Springfield\, OR. Adults $15 | Student/Senior $10 \nJoin Alex the Lion\, Marty the Zebra\, Melman the Giraffe\, Gloria the hip hip Hippo and\, of course\, those hilarious\, plotting penguins as they bound onto your stage in the 60 minute musical adventure of a lifetime. Based on the smash DreamWorks animated motion picture\, Madagascar – A Musical Adventure JR. follows all of your favorite crack-a-lackin` friends as they escape from their home in New York`s Central Park Zoo and find themselves on an unexpected journey to the madcap world of King Julien`s Madagascar. \nAlex the lion is the king of the urban jungle\, the main attraction at New York`s Central Park Zoo. He and his best friends – Marty the zebra\, Melman the giraffe and Gloria the hippo – have spent their whole lives in blissful captivity before an admiring public and with regular meals provided for them. Not content to leave well enough alone\, Marty lets his curiosity get the better of him and makes his escape – with the aide of some prodigious penguins – to explore the world. \nThis fantastic show is brought to you in collaboration by the following artistic team: Directed by Jeany Snider and musicly directed by Katie Coleman. Choreograhpy by Adam Kelly and costumes by Sarah Schumacher and Lynne Macdonald. Sound technician by Jack Pendell. \nJoin us as we join friends to explore the world and “Move It\, Move It!” \nFeaturing original music and lyrics by George Noriega and Joel Someillan and a book by Kevin Del Aguila and presented through special arrangement with Music Theatre International (MTI). All authorized performance materials are also supplied by MTI\, 421 West 54th Street\, New York\, NY 10019 Phone: 212-541-4684 Fax: 212-397-4684 | www.MTIshows.com \nShowtimes:\nNovember 1\, 8 & 9 - 7:00 p.m.\nNovember 2\, 3\, 9 & 10 – 2:00 p.m. \n\n\n\n\n\n\n\n	\n\n\n	\n		\n			\n							Purchase Tickets
URL:https://wildishtheater.com/event/springfields-the-block-party/
LOCATION:Wildish Community Theater\, 630 Main Street\, Springfield\, OR\, 97477\, United States
ATTACH;FMTTYPE=image/jpeg:https://wildishtheater.com/wp-content/uploads/2024/09/sbps-1.jpg
END:VEVENT
END:VCALENDAR